<?xml version="1.0" encoding="UTF-8" standalone="no"?>
<metadata xml:lang="en">
<Esri>
<CreaDate>20190926</CreaDate>
<CreaTime>04205700</CreaTime>
<ArcGISFormat>1.0</ArcGISFormat>
<ArcGISstyle>FGDC CSDGM Metadata</ArcGISstyle>
<SyncOnce>FALSE</SyncOnce>
<DataProperties>
<itemProps>
<itemName Sync="TRUE">LiDAR_DEM_INT_16bit_Clip</itemName>
<imsContentType Sync="TRUE" export="False">002</imsContentType>
<nativeExtBox>
<westBL Sync="TRUE">-8075204.875700</westBL>
<eastBL Sync="TRUE">-8065909.855386</eastBL>
<southBL Sync="TRUE">5165908.122076</southBL>
<northBL Sync="TRUE">5174555.514631</northBL>
<exTypeCode Sync="TRUE">1</exTypeCode>
</nativeExtBox>
</itemProps>
<coordRef>
<type Sync="TRUE">Projected</type>
<geogcsn Sync="TRUE">GCS_WGS_1984</geogcsn>
<csUnits Sync="TRUE">Linear Unit: Meter (1.000000)</csUnits>
<projcsn Sync="TRUE">WGS_1984_Web_Mercator_Auxiliary_Sphere</projcsn>
<peXml Sync="TRUE">&lt;ProjectedCoordinateSystem xsi:type='typens:ProjectedCoordinateSystem' xmlns:xsi='http://www.w3.org/2001/XMLSchema-instance' xmlns:xs='http://www.w3.org/2001/XMLSchema' xmlns:typens='http://www.esri.com/schemas/ArcGIS/10.8'&gt;&lt;WKT&gt;PROJCS[&amp;quot;WGS_1984_Web_Mercator_Auxiliary_Sphere&amp;quot;,GEOGCS[&amp;quot;GCS_WGS_1984&amp;quot;,DATUM[&amp;quot;D_WGS_1984&amp;quot;,SPHEROID[&amp;quot;WGS_1984&amp;quot;,6378137.0,298.257223563]],PRIMEM[&amp;quot;Greenwich&amp;quot;,0.0],UNIT[&amp;quot;Degree&amp;quot;,0.0174532925199433]],PROJECTION[&amp;quot;Mercator_Auxiliary_Sphere&amp;quot;],PARAMETER[&amp;quot;False_Easting&amp;quot;,0.0],PARAMETER[&amp;quot;False_Northing&amp;quot;,0.0],PARAMETER[&amp;quot;Central_Meridian&amp;quot;,0.0],PARAMETER[&amp;quot;Standard_Parallel_1&amp;quot;,0.0],PARAMETER[&amp;quot;Auxiliary_Sphere_Type&amp;quot;,0.0],UNIT[&amp;quot;Meter&amp;quot;,1.0],AUTHORITY[&amp;quot;EPSG&amp;quot;,3857]]&lt;/WKT&gt;&lt;XOrigin&gt;-20037700&lt;/XOrigin&gt;&lt;YOrigin&gt;-30241100&lt;/YOrigin&gt;&lt;XYScale&gt;148923141.92838538&lt;/XYScale&gt;&lt;ZOrigin&gt;-100000&lt;/ZOrigin&gt;&lt;ZScale&gt;10000&lt;/ZScale&gt;&lt;MOrigin&gt;-100000&lt;/MOrigin&gt;&lt;MScale&gt;10000&lt;/MScale&gt;&lt;XYTolerance&gt;0.001&lt;/XYTolerance&gt;&lt;ZTolerance&gt;0.001&lt;/ZTolerance&gt;&lt;MTolerance&gt;0.001&lt;/MTolerance&gt;&lt;HighPrecision&gt;true&lt;/HighPrecision&gt;&lt;WKID&gt;102100&lt;/WKID&gt;&lt;LatestWKID&gt;3857&lt;/LatestWKID&gt;&lt;/ProjectedCoordinateSystem&gt;</peXml>
</coordRef>
</DataProperties>
<SyncDate>20220725</SyncDate>
<SyncTime>11385500</SyncTime>
<ModDate>20220725</ModDate>
<ModTime>11385500</ModTime>
<scaleRange>
<minScale>625000</minScale>
<maxScale>5000</maxScale>
</scaleRange>
<ArcGISProfile>FGDC</ArcGISProfile>
</Esri>
<dataIdInfo>
<envirDesc Sync="TRUE"> Version 6.2 (Build 9200) ; Esri ArcGIS 10.9.1.28388</envirDesc>
<dataLang>
<languageCode Sync="TRUE" value="eng">
</languageCode>
<countryCode Sync="TRUE" value="USA">
</countryCode>
</dataLang>
<idCitation>
<resTitle Sync="FALSE">Elevation from Lidar</resTitle>
<presForm>
<PresFormCd Sync="TRUE" value="011">
</PresFormCd>
</presForm>
<date>
<pubDate>2022-01-04T00:00:00</pubDate>
</date>
<citRespParty>
<editorSource>external</editorSource>
<editorDigest>a258336ed64c9a9dba524b8ce0322c94</editorDigest>
<rpOrgName>MassGIS</rpOrgName>
<rpCntInfo>
<cntAddress addressType="both">
<delPoint>One Ashburton Place, Room 819</delPoint>
<city>Boston</city>
<adminArea>MA</adminArea>
<postCode>02108</postCode>
<country>US</country>
</cntAddress>
<cntPhone>
<voiceNum tddtty="">617-619-5611</voiceNum>
</cntPhone>
</rpCntInfo>
<editorSave>True</editorSave>
<displayName>MassGIS</displayName>
<role>
<RoleCd value="006">
</RoleCd>
</role>
</citRespParty>
</idCitation>
<spatRpType>
<SpatRepTypCd Sync="TRUE" value="002">
</SpatRepTypCd>
</spatRpType>
<dataExt>
<geoEle>
<GeoBndBox esriExtentType="search">
<exTypeCode Sync="TRUE">1</exTypeCode>
<westBL Sync="TRUE">-72.540800</westBL>
<eastBL Sync="TRUE">-72.457301</eastBL>
<northBL Sync="TRUE">42.090566</northBL>
<southBL Sync="TRUE">42.032894</southBL>
</GeoBndBox>
</geoEle>
<exDesc>Dates of lidar point data used in thsi DEM</exDesc>
<tempEle>
<TempExtent>
<exTemp>
<TM_Period>
<tmBegin>2010-12-02T00:00:00</tmBegin>
<tmEnd>2015-10-01T00:00:00</tmEnd>
</TM_Period>
</exTemp>
</TempExtent>
</tempEle>
</dataExt>
<idPurp>Digital elevation model (DEM) from lidar terrain data for the Commonwealth of Massachusetts.</idPurp>
<idAbs>&lt;DIV STYLE="text-align:Left;"&gt;&lt;DIV&gt;&lt;DIV&gt;&lt;P&gt;&lt;SPAN&gt;This is a seamless bare earth digital elevation model (DEM) created from &lt;/SPAN&gt;&lt;A href="https://www.mass.gov/info-details/massgis-data-lidar-terrain-data"&gt;&lt;SPAN&gt;lidar terrain elevation data&lt;/SPAN&gt;&lt;/A&gt;&lt;SPAN&gt; the elevation above/below sea level in meters. MassGIS added a FEET field to the VAT (value attribute table) to store the elevation in feet as calculated by multiplying VALUE x 3.28084.&lt;/SPAN&gt;&lt;/P&gt;&lt;P&gt;&lt;SPAN&gt;Dates of lidar data used in this DEM range from 2010-2015. The overlapping lidar projects were adjusted to the same projection and datum and then mosaicked, with the most recent data replacing any older data. Several very small gaps between the project areas were patched with older lidar data where necessary or with models from recent aerial photo acquisitions. See &lt;/SPAN&gt;&lt;A href="https://www.mass.gov/doc/lidar-project-areas-original/download"&gt;&lt;SPAN&gt;https://www.mass.gov/doc/lidar-project-areas-original/download&lt;/SPAN&gt;&lt;/A&gt;&lt;SPAN&gt; for an index map.&lt;/SPAN&gt;&lt;/P&gt;&lt;P&gt;&lt;SPAN&gt;This DEM is referenced to the &lt;/SPAN&gt;&lt;SPAN&gt;WGS_1984_Web_Mercator_Auxiliary_Sphere spatial reference.&lt;/SPAN&gt;&lt;/P&gt;&lt;/DIV&gt;&lt;/DIV&gt;&lt;/DIV&gt;</idAbs>
<idCredit>MassGIS</idCredit>
<searchKeys>
<keyword>Elevation</keyword>
<keyword>lidar</keyword>
<keyword>DEM</keyword>
<keyword>MassGIS</keyword>
<keyword>Massachusetts</keyword>
</searchKeys>
<resMaint>
<maintFreq>
<MaintFreqCd value="011">
</MaintFreqCd>
</maintFreq>
</resMaint>
<dataChar>
<CharSetCd value="004">
</CharSetCd>
</dataChar>
<idStatus>
<ProgCd value="001">
</ProgCd>
</idStatus>
<idPoC>
<editorSource>external</editorSource>
<editorDigest>a258336ed64c9a9dba524b8ce0322c94</editorDigest>
<rpOrgName>MassGIS</rpOrgName>
<rpCntInfo>
<cntAddress addressType="both">
<delPoint>One Ashburton Place, Room 819</delPoint>
<city>Boston</city>
<adminArea>MA</adminArea>
<postCode>02108</postCode>
<country>US</country>
</cntAddress>
<cntPhone>
<voiceNum tddtty="">617-619-5611</voiceNum>
</cntPhone>
</rpCntInfo>
<editorSave>True</editorSave>
<displayName>MassGIS</displayName>
<role>
<RoleCd value="006">
</RoleCd>
</role>
</idPoC>
<resConst>
<LegConsts>
<useLimit>Data may be used in any map or application without restriction. We ask that the data be cited as:
"Bureau of Geographic Information (MassGIS), Commonwealth of Massachusetts, Executive Office of Technology and Security Services".</useLimit>
</LegConsts>
</resConst>
<resConst>
<Consts>
<useLimit>&lt;DIV STYLE="text-align:Left;"&gt;&lt;DIV&gt;&lt;DIV&gt;&lt;P&gt;&lt;SPAN&gt;Data may be used in any map or application without restriction. We ask that the data be cited as:&lt;/SPAN&gt;&lt;/P&gt;&lt;P&gt;&lt;SPAN&gt;"Bureau of Geographic Information (MassGIS), Commonwealth of Massachusetts, Executive Office of Technology and Security Services".&lt;/SPAN&gt;&lt;/P&gt;&lt;/DIV&gt;&lt;/DIV&gt;&lt;/DIV&gt;</useLimit>
</Consts>
</resConst>
<tpCat>
<TopicCatCd value="006">
</TopicCatCd>
</tpCat>
<tpCat>
<TopicCatCd value="010">
</TopicCatCd>
</tpCat>
</dataIdInfo>
<mdLang>
<languageCode Sync="TRUE" value="eng">
</languageCode>
<countryCode Sync="TRUE" value="USA">
</countryCode>
</mdLang>
<distInfo>
<distFormat>
<formatName Sync="TRUE">File Geodatabase Raster Dataset</formatName>
</distFormat>
<distributor>
<distorCont>
<editorSource>external</editorSource>
<editorDigest>a258336ed64c9a9dba524b8ce0322c94</editorDigest>
<rpOrgName>MassGIS</rpOrgName>
<rpCntInfo>
<cntAddress addressType="both">
<delPoint>One Ashburton Place, Room 819</delPoint>
<city>Boston</city>
<adminArea>MA</adminArea>
<postCode>02108</postCode>
<country>US</country>
</cntAddress>
<cntPhone>
<voiceNum tddtty="">617-619-5611</voiceNum>
</cntPhone>
</rpCntInfo>
<editorSave>True</editorSave>
<displayName>MassGIS</displayName>
<role>
<RoleCd value="005">
</RoleCd>
</role>
</distorCont>
<distorOrdPrc>
<ordInstr>Download from https://www.mass.gov/info-details/massgis-data-lidar-dem-and-shaded-relief</ordInstr>
</distorOrdPrc>
</distributor>
</distInfo>
<mdHrLv>
<ScopeCd Sync="TRUE" value="005">
</ScopeCd>
</mdHrLv>
<mdHrLvName Sync="TRUE">dataset</mdHrLvName>
<refSysInfo>
<RefSystem>
<refSysID>
<identCode Sync="TRUE" code="3857">
</identCode>
<idCodeSpace Sync="TRUE">EPSG</idCodeSpace>
<idVersion Sync="TRUE">6.18.3(9.3.1.2)</idVersion>
</refSysID>
</RefSystem>
</refSysInfo>
<spdoinfo>
<rastinfo>
<rasttype Sync="TRUE">Pixel</rasttype>
<rowcount Sync="TRUE">6275</rowcount>
<colcount Sync="TRUE">6746</colcount>
<rastxsz Sync="TRUE">1.377857</rastxsz>
<rastysz Sync="TRUE">1.378071</rastysz>
<rastbpp Sync="TRUE">16</rastbpp>
<vrtcount Sync="TRUE">1</vrtcount>
<rastorig Sync="TRUE">Upper Left</rastorig>
<rastcmap Sync="TRUE">FALSE</rastcmap>
<rastcomp Sync="TRUE">LZ77</rastcomp>
<rastband Sync="TRUE">1</rastband>
<rastdtyp Sync="TRUE">pixel codes</rastdtyp>
<rastifor Sync="TRUE">FGDBR</rastifor>
<rastplyr Sync="TRUE">TRUE</rastplyr>
</rastinfo>
</spdoinfo>
<spref>
<horizsys>
<planar>
<planci>
<plance Sync="TRUE">row and column</plance>
<coordrep>
<absres Sync="TRUE">1.377857</absres>
<ordres Sync="TRUE">1.378071</ordres>
</coordrep>
</planci>
</planar>
</horizsys>
</spref>
<mdDateSt Sync="TRUE">20220725</mdDateSt>
<eainfo>
<detailed Name="VAT_LiDAR_DEM_INT_16bit_Clip">
<enttyp>
<enttypl Sync="TRUE">VAT_LiDAR_DEM_INT_16bit_Clip</enttypl>
<enttypt Sync="TRUE">Table</enttypt>
<enttypc Sync="TRUE">83</enttypc>
</enttyp>
<attr>
<attrlabl Sync="TRUE">OBJECTID</attrlabl>
<attalias Sync="TRUE">OBJECTID</attalias>
<attrtype Sync="TRUE">OID</attrtype>
<attwidth Sync="TRUE">4</attwidth>
<atprecis Sync="TRUE">0</atprecis>
<attscale Sync="TRUE">0</attscale>
<attrdef Sync="TRUE">Internal feature number.</attrdef>
<attrdefs Sync="TRUE">Esri</attrdefs>
<attrdomv>
<udom Sync="TRUE">Sequential unique whole numbers that are automatically generated.</udom>
</attrdomv>
</attr>
<attr>
<attrlabl Sync="TRUE">Value</attrlabl>
<attalias Sync="FALSE">Meters</attalias>
<attrtype Sync="TRUE">Integer</attrtype>
<attwidth Sync="TRUE">4</attwidth>
<atprecis Sync="TRUE">0</atprecis>
<attscale Sync="TRUE">0</attscale>
<attrdef>Elevation above and below sea level, in meters</attrdef>
<attrdefs>MassGIS</attrdefs>
</attr>
<attr>
<attrlabl Sync="TRUE">Count</attrlabl>
<attalias Sync="TRUE">Count</attalias>
<attrtype Sync="TRUE">Double</attrtype>
<attwidth Sync="TRUE">8</attwidth>
<atprecis Sync="TRUE">0</atprecis>
<attscale Sync="TRUE">0</attscale>
</attr>
<attr>
<attrlabl Sync="TRUE">Feet</attrlabl>
<attalias Sync="TRUE">Feet</attalias>
<attrtype Sync="TRUE">Integer</attrtype>
<attwidth Sync="TRUE">4</attwidth>
<atprecis Sync="TRUE">0</atprecis>
<attscale Sync="TRUE">0</attscale>
<attrdef>Elevation above and below sea level, in feet</attrdef>
<attrdefs>MassGIS</attrdefs>
</attr>
</detailed>
</eainfo>
<mdChar>
<CharSetCd value="004">
</CharSetCd>
</mdChar>
<mdMaint>
<maintFreq>
<MaintFreqCd value="011">
</MaintFreqCd>
</maintFreq>
</mdMaint>
<mdContact>
<editorSource>external</editorSource>
<editorDigest>a258336ed64c9a9dba524b8ce0322c94</editorDigest>
<rpOrgName>MassGIS</rpOrgName>
<rpCntInfo>
<cntAddress addressType="both">
<delPoint>One Ashburton Place, Room 819</delPoint>
<city>Boston</city>
<adminArea>MA</adminArea>
<postCode>02108</postCode>
<country>US</country>
</cntAddress>
<cntPhone>
<voiceNum tddtty="">617-619-5611</voiceNum>
</cntPhone>
</rpCntInfo>
<editorSave>True</editorSave>
<displayName>MassGIS</displayName>
<role>
<RoleCd value="006">
</RoleCd>
</role>
</mdContact>
<dqInfo>
<dataLineage>
<statement>Several very small gaps between the project areas were patched with older lidar data where necessary or with models from recent aerial photo acquisitions, including:
2004 FEMA Lidar: Hampden County
2004 FEMA Lidar: Blackstone Watershed
2006 FEMA BE Lidar: Bristol &amp; Plymouth Counties
2006 URS Corporation NE Lidar: Shawsheen River</statement>
</dataLineage>
</dqInfo>
</metadata>
