{
 "currentVersion": 10.91,
 "serviceDescription": "Orthos/Ortho2013_epsg3857",
 "name": "Orthos/Ortho2013_epsg3857",
 "description": "",
 "extent": {
  "xmin": -8075431.543032768,
  "ymin": 5165019.700434953,
  "xmax": -8064819.343032768,
  "ymax": 5175671.200434953,
  "spatialReference": {
   "wkid": 102100,
   "latestWkid": 3857
  }
 },
 "initialExtent": {
  "xmin": -8075431.543032768,
  "ymin": 5165019.700434953,
  "xmax": -8064819.343032768,
  "ymax": 5175671.200434953,
  "spatialReference": {
   "wkid": 102100,
   "latestWkid": 3857
  }
 },
 "fullExtent": {
  "xmin": -8075431.543032768,
  "ymin": 5165019.700434953,
  "xmax": -8064819.343032768,
  "ymax": 5175671.200434953,
  "spatialReference": {
   "wkid": 102100,
   "latestWkid": 3857
  }
 },
 "pixelSizeX": 0.30000000000000526,
 "pixelSizeY": 0.3,
 "bandCount": 4,
 "pixelType": "U8",
 "minPixelSize": 0,
 "maxPixelSize": 0,
 "copyrightText": "",
 "serviceDataType": "esriImageServiceDataTypeGeneric",
 "minValues": [
  0,
  1,
  10,
  0
 ],
 "maxValues": [
  255,
  255,
  254,
  254
 ],
 "meanValues": [
  94.7126598180275,
  96.43458881999983,
  89.09206155847592,
  114.73999482926169
 ],
 "stdvValues": [
  39.50977589442909,
  33.9312540872397,
  29.07749787204022,
  43.078170049892066
 ],
 "objectIdField": "",
 "fields": [],
 "capabilities": "Image,Metadata,Mensuration",
 "defaultMosaicMethod": "Center",
 "allowedMosaicMethods": "",
 "sortField": "",
 "sortValue": null,
 "sortAscending": true,
 "mosaicOperator": "First",
 "defaultCompressionQuality": 75,
 "defaultResamplingMethod": "Bilinear",
 "maxImageHeight": 4100,
 "maxImageWidth": 15000,
 "allowRasterFunction": true,
 "rasterFunctionInfos": [
  {
   "name": "None",
   "description": "",
   "help": ""
  }
 ],
 "rasterTypeInfos": [
  {
   "name": "Raster Dataset",
   "description": "Supports all ArcGIS Raster Datasets",
   "help": ""
  }
 ],
 "mensurationCapabilities": "Basic",
 "hasHistograms": true,
 "hasColormap": false,
 "hasRasterAttributeTable": false,
 "minScale": 0,
 "maxScale": 0,
 "exportTilesAllowed": false,
 "hasMultidimensions": false,
 "supportsStatistics": false,
 "supportsAdvancedQueries": false,
 "editFieldsInfo": null,
 "ownershipBasedAccessControlForRasters": null,
 "allowComputeTiePoints": false,
 "useStandardizedQueries": true,
 "advancedQueryCapabilities": {
  "useStandardizedQueries": true,
  "supportsStatistics": false,
  "supportsOrderBy": false,
  "supportsDistinct": false,
  "supportsPagination": false
 },
 "spatialReference": {
  "wkid": 102100,
  "latestWkid": 3857
 }
}
