{
 "currentVersion": 10.91,
 "serviceDescription": "Orthos/Ortho2023_epsg3857",
 "name": "Orthos/Ortho2023_epsg3857",
 "description": "",
 "extent": {
  "xmin": -8077323.725892551,
  "ymin": 5165077.394868612,
  "xmax": -8062853.525892551,
  "ymax": 5177636.5948686125,
  "spatialReference": {
   "wkid": 102100,
   "latestWkid": 3857
  }
 },
 "initialExtent": {
  "xmin": -8077323.725892551,
  "ymin": 5165077.394868612,
  "xmax": -8062853.525892551,
  "ymax": 5177636.5948686125,
  "spatialReference": {
   "wkid": 102100,
   "latestWkid": 3857
  }
 },
 "fullExtent": {
  "xmin": -8077323.725892551,
  "ymin": 5165077.394868612,
  "xmax": -8062853.525892551,
  "ymax": 5177636.5948686125,
  "spatialReference": {
   "wkid": 102100,
   "latestWkid": 3857
  }
 },
 "pixelSizeX": 0.15000000000000194,
 "pixelSizeY": 0.15000000000000221,
 "bandCount": 4,
 "pixelType": "F32",
 "minPixelSize": 0,
 "maxPixelSize": 0,
 "copyrightText": "",
 "serviceDataType": "esriImageServiceDataTypeGeneric",
 "minValues": [
  -16.4296875,
  -15.10894775390625,
  -15.889216423034668,
  -19.138843536376953
 ],
 "maxValues": [
  292.30743408203125,
  294.4536437988281,
  296.7692565917969,
  295.4129943847656
 ],
 "meanValues": [
  92.42755801706022,
  89.48272421879575,
  77.70104209210183,
  127.8475592622055
 ],
 "stdvValues": [
  37.66440642326318,
  34.22746232072836,
  30.62900412788645,
  37.85300208369759
 ],
 "objectIdField": "",
 "fields": [],
 "capabilities": "Image,Metadata,Mensuration",
 "defaultMosaicMethod": "Center",
 "allowedMosaicMethods": "",
 "sortField": "",
 "sortValue": null,
 "sortAscending": true,
 "mosaicOperator": "First",
 "defaultCompressionQuality": 75,
 "defaultResamplingMethod": "Bilinear",
 "maxImageHeight": 4100,
 "maxImageWidth": 15000,
 "allowRasterFunction": true,
 "rasterFunctionInfos": [
  {
   "name": "None",
   "description": "",
   "help": ""
  }
 ],
 "rasterTypeInfos": [
  {
   "name": "Raster Dataset",
   "description": "Supports all ArcGIS Raster Datasets",
   "help": ""
  }
 ],
 "mensurationCapabilities": "Basic",
 "hasHistograms": true,
 "hasColormap": false,
 "hasRasterAttributeTable": false,
 "minScale": 0,
 "maxScale": 0,
 "exportTilesAllowed": false,
 "hasMultidimensions": false,
 "supportsStatistics": false,
 "supportsAdvancedQueries": false,
 "editFieldsInfo": null,
 "ownershipBasedAccessControlForRasters": null,
 "allowComputeTiePoints": false,
 "useStandardizedQueries": true,
 "advancedQueryCapabilities": {
  "useStandardizedQueries": true,
  "supportsStatistics": false,
  "supportsOrderBy": false,
  "supportsDistinct": false,
  "supportsPagination": false
 },
 "spatialReference": {
  "wkid": 102100,
  "latestWkid": 3857
 }
}
