{
 "currentVersion": 10.91,
 "serviceDescription": "Orthos/ShadedRelief",
 "name": "Orthos/ShadedRelief",
 "description": "",
 "extent": {
  "xmin": 113818.24955778323,
  "ymin": 865166.1840731432,
  "xmax": 120803.77639854158,
  "ymax": 871653.4205117165,
  "spatialReference": {
   "wkid": 26986,
   "latestWkid": 26986
  }
 },
 "initialExtent": {
  "xmin": 113818.24955778323,
  "ymin": 865166.1840731432,
  "xmax": 120803.77639854158,
  "ymax": 871653.4205117165,
  "spatialReference": {
   "wkid": 26986,
   "latestWkid": 26986
  }
 },
 "fullExtent": {
  "xmin": 113818.24955778323,
  "ymin": 865166.1840731432,
  "xmax": 120803.77639854158,
  "ymax": 871653.4205117165,
  "spatialReference": {
   "wkid": 26986,
   "latestWkid": 26986
  }
 },
 "pixelSizeX": 1.05124557423,
 "pixelSizeY": 1.0512455742300013,
 "bandCount": 1,
 "pixelType": "U8",
 "minPixelSize": 0,
 "maxPixelSize": 0,
 "copyrightText": "",
 "serviceDataType": "esriImageServiceDataTypeGeneric",
 "minValues": [
  1
 ],
 "maxValues": [
  255
 ],
 "meanValues": [
  218.23879486508477
 ],
 "stdvValues": [
  5.66256293497071
 ],
 "objectIdField": "",
 "fields": [],
 "capabilities": "Image,Metadata,Mensuration",
 "defaultMosaicMethod": "Center",
 "allowedMosaicMethods": "",
 "sortField": "",
 "sortValue": null,
 "sortAscending": true,
 "mosaicOperator": "First",
 "defaultCompressionQuality": 75,
 "defaultResamplingMethod": "Bilinear",
 "maxImageHeight": 4100,
 "maxImageWidth": 15000,
 "allowRasterFunction": true,
 "rasterFunctionInfos": [
  {
   "name": "None",
   "description": "",
   "help": ""
  }
 ],
 "rasterTypeInfos": [
  {
   "name": "Raster Dataset",
   "description": "Supports all ArcGIS Raster Datasets",
   "help": ""
  }
 ],
 "mensurationCapabilities": "Basic",
 "hasHistograms": true,
 "hasColormap": false,
 "hasRasterAttributeTable": true,
 "minScale": 0,
 "maxScale": 0,
 "exportTilesAllowed": false,
 "hasMultidimensions": false,
 "supportsStatistics": false,
 "supportsAdvancedQueries": false,
 "editFieldsInfo": null,
 "ownershipBasedAccessControlForRasters": null,
 "allowComputeTiePoints": false,
 "useStandardizedQueries": true,
 "advancedQueryCapabilities": {
  "useStandardizedQueries": true,
  "supportsStatistics": false,
  "supportsOrderBy": false,
  "supportsDistinct": false,
  "supportsPagination": false
 },
 "spatialReference": {
  "wkid": 26986,
  "latestWkid": 26986
 }
}
