View In:
ArcGIS JavaScript
ArcGIS Online Map Viewer
ArcGIS Earth
ArcMap
View Footprint In:
ArcGIS Online Map Viewer
Service Description: Orthos/DroneMosaic
Name: Orthos/DroneMosaic
Description:
Single Fused Map Cache: false
Extent:
XMin: -8074435.8078000005
YMin: 5166527.479217621
XMax: -8070447.153319787
YMax: 5173660.5594
Spatial Reference: 102100
(3857)
Initial Extent:
XMin: -8074435.8078000005
YMin: 5166527.479217621
XMax: -8070447.153319787
YMax: 5173660.5594
Spatial Reference: 102100
(3857)
Full Extent:
XMin: -8074435.8078000005
YMin: 5166527.479217621
XMax: -8070447.153319787
YMax: 5173660.5594
Spatial Reference: 102100
(3857)
Pixel Size X: 0.0075665368100809255
Pixel Size Y: 0.007566536810081437
Band Count: 3
Pixel Type: U8
RasterFunction Infos: {"rasterFunctionInfos": [{
"name": "None",
"description": "",
"help": ""
}]}
Mensuration Capabilities: Basic
Has Histograms: true
Has Colormap: false
Has Multi Dimensions : false
Rendering Rule:
Min Scale: 0
Max Scale: 0
Copyright Text:
Service Data Type: esriImageServiceDataTypeRGB
Min Values: 0, 0, 0
Max Values: 255, 255, 255
Mean Values: 113.97160921765979, 121.0210478519931, 100.1167154722071
Standard Deviation Values: 59.22121018498685, 55.39582672672782, 58.486716101563815
Object ID Field:
Fields:
None
Default Mosaic Method: Center
Allowed Mosaic Methods:
SortField:
SortValue: null
Mosaic Operator: First
Default Compression Quality: 75
Default Resampling Method: Bilinear
Max Record Count: null
Max Image Height: 4100
Max Image Width: 15000
Max Download Image Count: null
Max Mosaic Image Count: null
Allow Raster Function: true
Allow Copy: null
Allow Analysis: null
Allow Compute TiePoints: false
Supports Statistics: false
Supports Advanced Queries: false
Use StandardizedQueries: true
Raster Type Infos:
Name: Raster Dataset
Description: Supports all ArcGIS Raster Datasets
Help:
Has Raster Attribute Table: false
Edit Fields Info: null
Ownership Based AccessControl For Rasters: null
Child Resources:
Info
Histograms
Key Properties
Legend
Raster Function Infos
Supported Operations:
Export Image
Identify
Measure
Compute Histograms
Compute Statistics Histograms
Get Samples
Compute Class Statistics
Query Boundary
Compute Pixel Location
Compute Angles
Validate
Project