View In:
ArcGIS JavaScript
ArcGIS Online Map Viewer
ArcGIS Earth
ArcMap
View Footprint In:
ArcGIS Online Map Viewer
Service Description: Orthos/Ortho1997_epsg3857
Name: Orthos/Ortho1997_epsg3857
Description:
Single Fused Map Cache: false
Extent:
XMin: -8076449.966039559
YMin: 5161513.482896308
XMax: -8065501.466040671
YMax: 5177837.98289465
Spatial Reference: 102100
(3857)
Initial Extent:
XMin: -8076449.966039559
YMin: 5161513.482896308
XMax: -8065501.466040671
YMax: 5177837.98289465
Spatial Reference: 102100
(3857)
Full Extent:
XMin: -8076449.966039559
YMin: 5161513.482896308
XMax: -8065501.466040671
YMax: 5177837.98289465
Spatial Reference: 102100
(3857)
Pixel Size X: 0.49999999994921684
Pixel Size Y: 0.4999999999491964
Band Count: 1
Pixel Type: U8
RasterFunction Infos: {"rasterFunctionInfos": [{
"name": "None",
"description": "",
"help": ""
}]}
Mensuration Capabilities: Basic
Has Histograms: true
Has Colormap: false
Has Multi Dimensions : false
Rendering Rule:
Min Scale: 0
Max Scale: 0
Copyright Text:
Service Data Type: esriImageServiceDataTypeGeneric
Min Values: 0
Max Values: 255
Mean Values: 115.96865733796386
Standard Deviation Values: 34.502583028829854
Object ID Field:
Fields:
None
Default Mosaic Method: Center
Allowed Mosaic Methods:
SortField:
SortValue: null
Mosaic Operator: First
Default Compression Quality: 75
Default Resampling Method: Bilinear
Max Record Count: null
Max Image Height: 4100
Max Image Width: 15000
Max Download Image Count: null
Max Mosaic Image Count: null
Allow Raster Function: true
Allow Copy: null
Allow Analysis: null
Allow Compute TiePoints: false
Supports Statistics: false
Supports Advanced Queries: false
Use StandardizedQueries: true
Raster Type Infos:
Name: Raster Dataset
Description: Supports all ArcGIS Raster Datasets
Help:
Has Raster Attribute Table: true
Edit Fields Info: null
Ownership Based AccessControl For Rasters: null
Child Resources:
Info
Raster Attribute Table
Histograms
Key Properties
Legend
Raster Function Infos
Supported Operations:
Export Image
Identify
Measure
Compute Histograms
Compute Statistics Histograms
Get Samples
Compute Class Statistics
Query Boundary
Compute Pixel Location
Compute Angles
Validate
Project