View In:
ArcGIS JavaScript
ArcGIS Online Map Viewer
ArcGIS Earth
ArcMap
View Footprint In:
ArcGIS Online Map Viewer
Service Description: Orthos/Ortho2005_epsg4326
Name: Orthos/Ortho2005_epsg4326
Description:
Single Fused Map Cache: false
Extent:
XMin: -72.54254381584524
YMin: 42.03087358287867
XMax: -72.45323808248331
YMax: 42.090915223973795
Spatial Reference: 4326
(4326)
Initial Extent:
XMin: -72.54254381584524
YMin: 42.03087358287867
XMax: -72.45323808248331
YMax: 42.090915223973795
Spatial Reference: 4326
(4326)
Full Extent:
XMin: -72.54254381584524
YMin: 42.03087358287867
XMax: -72.45323808248331
YMax: 42.090915223973795
Spatial Reference: 4326
(4326)
Pixel Size X: 5.898115984118072E-7
Pixel Size Y: 5.8981159841181E-7
Band Count: 3
Pixel Type: U8
RasterFunction Infos: {"rasterFunctionInfos": [{
"name": "None",
"description": "",
"help": ""
}]}
Mensuration Capabilities: Basic
Has Histograms: true
Has Colormap: false
Has Multi Dimensions : false
Rendering Rule:
Min Scale: 0
Max Scale: 0
Copyright Text:
Service Data Type: esriImageServiceDataTypeRGB
Min Values: 0, 0, 0
Max Values: 255, 255, 255
Mean Values: 124.26381729687007, 154.22973937748327, 146.5352793146146
Standard Deviation Values: 75.96878667823049, 55.948805258438824, 51.28867455702066
Object ID Field:
Fields:
None
Default Mosaic Method: Center
Allowed Mosaic Methods:
SortField:
SortValue: null
Mosaic Operator: First
Default Compression Quality: 75
Default Resampling Method: Bilinear
Max Record Count: null
Max Image Height: 4100
Max Image Width: 15000
Max Download Image Count: null
Max Mosaic Image Count: null
Allow Raster Function: true
Allow Copy: null
Allow Analysis: null
Allow Compute TiePoints: false
Supports Statistics: false
Supports Advanced Queries: false
Use StandardizedQueries: true
Raster Type Infos:
Name: Raster Dataset
Description: Supports all ArcGIS Raster Datasets
Help:
Has Raster Attribute Table: false
Edit Fields Info: null
Ownership Based AccessControl For Rasters: null
Child Resources:
Info
Histograms
Key Properties
Legend
Raster Function Infos
Supported Operations:
Export Image
Identify
Measure
Compute Histograms
Compute Statistics Histograms
Get Samples
Compute Class Statistics
Query Boundary
Compute Pixel Location
Compute Angles
Validate
Project