View In:
ArcGIS JavaScript
ArcGIS Online Map Viewer
ArcGIS Earth
ArcMap
View Footprint In:
ArcGIS Online Map Viewer
Service Description: Orthos/Ortho2009_epsg3857
Name: Orthos/Ortho2009_epsg3857
Description:
Single Fused Map Cache: false
Extent:
XMin: -8075370.173515418
YMin: 5164110.890778214
XMax: -8065003.599982271
YMax: 5174516.021588475
Spatial Reference: 102100
(3857)
Initial Extent:
XMin: -8075370.173515418
YMin: 5164110.890778214
XMax: -8065003.599982271
YMax: 5174516.021588475
Spatial Reference: 102100
(3857)
Full Extent:
XMin: -8075370.173515418
YMin: 5164110.890778214
XMax: -8065003.599982271
YMax: 5174516.021588475
Spatial Reference: 102100
(3857)
Pixel Size X: 0.15240030480060338
Pixel Size Y: 0.15240030480061081
Band Count: 3
Pixel Type: U8
RasterFunction Infos: {"rasterFunctionInfos": [{
"name": "None",
"description": "",
"help": ""
}]}
Mensuration Capabilities: Basic
Has Histograms: true
Has Colormap: false
Has Multi Dimensions : false
Rendering Rule:
Min Scale: 0
Max Scale: 0
Copyright Text:
Service Data Type: esriImageServiceDataTypeRGB
Min Values: 0, 0, 0
Max Values: 255, 255, 255
Mean Values: 136.21167091471568, 137.16075304416788, 127.3451336267083
Standard Deviation Values: 84.25111882433417, 82.67463121056812, 87.82858158765922
Object ID Field:
Fields:
None
Default Mosaic Method: Center
Allowed Mosaic Methods:
SortField:
SortValue: null
Mosaic Operator: First
Default Compression Quality: 75
Default Resampling Method: Bilinear
Max Record Count: null
Max Image Height: 4100
Max Image Width: 15000
Max Download Image Count: null
Max Mosaic Image Count: null
Allow Raster Function: true
Allow Copy: null
Allow Analysis: null
Allow Compute TiePoints: false
Supports Statistics: false
Supports Advanced Queries: false
Use StandardizedQueries: true
Raster Type Infos:
Name: Raster Dataset
Description: Supports all ArcGIS Raster Datasets
Help:
Has Raster Attribute Table: false
Edit Fields Info: null
Ownership Based AccessControl For Rasters: null
Child Resources:
Info
Histograms
Key Properties
Legend
Raster Function Infos
Supported Operations:
Export Image
Identify
Measure
Compute Histograms
Compute Statistics Histograms
Get Samples
Compute Class Statistics
Query Boundary
Compute Pixel Location
Compute Angles
Validate
Project