View In:
ArcGIS JavaScript
ArcGIS Online Map Viewer
ArcGIS Earth
ArcMap
View Footprint In:
ArcGIS Online Map Viewer
Service Description: Orthos/Ortho2017_epsg3857
Name: Orthos/Ortho2017_epsg3857
Description:
Single Fused Map Cache: false
Extent:
XMin: -8076130.489065196
YMin: 5164259.006857641
XMax: -8064959.846685079
YMax: 5175960.135072794
Spatial Reference: 102100
(3857)
Initial Extent:
XMin: -8076130.489065196
YMin: 5164259.006857641
XMax: -8064959.846685079
YMax: 5175960.135072794
Spatial Reference: 102100
(3857)
Full Extent:
XMin: -8076130.489065196
YMin: 5164259.006857641
XMax: -8064959.846685079
YMax: 5175960.135072794
Spatial Reference: 102100
(3857)
Pixel Size X: 0.13008480506005962
Pixel Size Y: 0.13008480506006415
Band Count: 3
Pixel Type: U8
RasterFunction Infos: {"rasterFunctionInfos": [{
"name": "None",
"description": "",
"help": ""
}]}
Mensuration Capabilities: Basic
Has Histograms: true
Has Colormap: false
Has Multi Dimensions : false
Rendering Rule:
Min Scale: 0
Max Scale: 0
Copyright Text:
Service Data Type: esriImageServiceDataTypeRGB
Min Values: 0, 0, 0
Max Values: 255, 255, 255
Mean Values: 57.702976989634934, 63.42380322271098, 50.40743788359382
Standard Deviation Values: 33.91292866836115, 32.619370780566456, 30.646174138428535
Object ID Field:
Fields:
None
Default Mosaic Method: Center
Allowed Mosaic Methods:
SortField:
SortValue: null
Mosaic Operator: First
Default Compression Quality: 75
Default Resampling Method: Bilinear
Max Record Count: null
Max Image Height: 4100
Max Image Width: 15000
Max Download Image Count: null
Max Mosaic Image Count: null
Allow Raster Function: true
Allow Copy: null
Allow Analysis: null
Allow Compute TiePoints: false
Supports Statistics: false
Supports Advanced Queries: false
Use StandardizedQueries: true
Raster Type Infos:
Name: Raster Dataset
Description: Supports all ArcGIS Raster Datasets
Help:
Has Raster Attribute Table: false
Edit Fields Info: null
Ownership Based AccessControl For Rasters: null
Child Resources:
Info
Histograms
Key Properties
Legend
Raster Function Infos
Supported Operations:
Export Image
Identify
Measure
Compute Histograms
Compute Statistics Histograms
Get Samples
Compute Class Statistics
Query Boundary
Compute Pixel Location
Compute Angles
Validate
Project