View In:
ArcGIS JavaScript
ArcGIS Online Map Viewer
ArcGIS Earth
ArcMap
View Footprint In:
ArcGIS Online Map Viewer
Service Description: Orthos/Ortho2021_epsg3857
Name: Orthos/Ortho2021_epsg3857
Description:
Single Fused Map Cache: false
Extent:
XMin: -8077323.682796867
YMin: 5165077.3840838205
XMax: -8062853.632796867
YMax: 5177636.584083821
Spatial Reference: 102100
(3857)
Initial Extent:
XMin: -8077323.682796867
YMin: 5165077.3840838205
XMax: -8062853.632796867
YMax: 5177636.584083821
Spatial Reference: 102100
(3857)
Full Extent:
XMin: -8077323.682796867
YMin: 5165077.3840838205
XMax: -8062853.632796867
YMax: 5177636.584083821
Spatial Reference: 102100
(3857)
Pixel Size X: 0.14999999999999808
Pixel Size Y: 0.15000000000000221
Band Count: 4
Pixel Type: U8
RasterFunction Infos: {"rasterFunctionInfos": [{
"name": "None",
"description": "",
"help": ""
}]}
Mensuration Capabilities: Basic
Has Histograms: true
Has Colormap: false
Has Multi Dimensions : false
Rendering Rule:
Min Scale: 0
Max Scale: 0
Copyright Text:
Service Data Type: esriImageServiceDataTypeGeneric
Min Values: 0, 0, 0, 0
Max Values: 255, 255, 255, 255
Mean Values: 96.99584355295178, 102.37488750628941, 94.39024859936484, 129.71866634697088
Standard Deviation Values: 42.66713779047044, 43.78855781955567, 39.830948274764864, 41.29859044720923
Object ID Field:
Fields:
None
Default Mosaic Method: Center
Allowed Mosaic Methods:
SortField:
SortValue: null
Mosaic Operator: First
Default Compression Quality: 75
Default Resampling Method: Bilinear
Max Record Count: null
Max Image Height: 4100
Max Image Width: 15000
Max Download Image Count: null
Max Mosaic Image Count: null
Allow Raster Function: true
Allow Copy: null
Allow Analysis: null
Allow Compute TiePoints: false
Supports Statistics: false
Supports Advanced Queries: false
Use StandardizedQueries: true
Raster Type Infos:
Name: Raster Dataset
Description: Supports all ArcGIS Raster Datasets
Help:
Has Raster Attribute Table: false
Edit Fields Info: null
Ownership Based AccessControl For Rasters: null
Child Resources:
Info
Histograms
Key Properties
Legend
Raster Function Infos
Supported Operations:
Export Image
Identify
Measure
Compute Histograms
Compute Statistics Histograms
Get Samples
Compute Class Statistics
Query Boundary
Compute Pixel Location
Compute Angles
Validate
Project