View In:
ArcGIS JavaScript
ArcGIS Online Map Viewer
ArcGIS Earth
ArcMap
View Footprint In:
ArcGIS Online Map Viewer
Service Description: Orthos/USGS_Ortho2019_epsg3857
Name: Orthos/USGS_Ortho2019_epsg3857
Description:
Single Fused Map Cache: false
Extent:
XMin: -8077323.725892551
YMin: 5165137.817257181
XMax: -8064931.475892551
YMax: 5175611.41725718
Spatial Reference: 102100
(3857)
Initial Extent:
XMin: -8077323.725892551
YMin: 5165137.817257181
XMax: -8064931.475892551
YMax: 5175611.41725718
Spatial Reference: 102100
(3857)
Full Extent:
XMin: -8077323.725892551
YMin: 5165137.817257181
XMax: -8064931.475892551
YMax: 5175611.41725718
Spatial Reference: 102100
(3857)
Pixel Size X: 0.15
Pixel Size Y: 0.14999999999999467
Band Count: 4
Pixel Type: U8
RasterFunction Infos: {"rasterFunctionInfos": [{
"name": "None",
"description": "",
"help": ""
}]}
Mensuration Capabilities: Basic
Has Histograms: true
Has Colormap: false
Has Multi Dimensions : false
Rendering Rule:
Min Scale: 0
Max Scale: 0
Copyright Text:
Service Data Type: esriImageServiceDataTypeGeneric
Min Values: 2, 17, 0, 0
Max Values: 255, 255, 255, 255
Mean Values: 99.77420899856232, 99.45379780570423, 89.01149319034428, 127.38870585150546
Standard Deviation Values: 37.386530594195506, 32.9053022010239, 30.17030939916975, 39.816775416776586
Object ID Field:
Fields:
None
Default Mosaic Method: Center
Allowed Mosaic Methods:
SortField:
SortValue: null
Mosaic Operator: First
Default Compression Quality: 75
Default Resampling Method: Bilinear
Max Record Count: null
Max Image Height: 4100
Max Image Width: 15000
Max Download Image Count: null
Max Mosaic Image Count: null
Allow Raster Function: true
Allow Copy: null
Allow Analysis: null
Allow Compute TiePoints: false
Supports Statistics: false
Supports Advanced Queries: false
Use StandardizedQueries: true
Raster Type Infos:
Name: Raster Dataset
Description: Supports all ArcGIS Raster Datasets
Help:
Has Raster Attribute Table: false
Edit Fields Info: null
Ownership Based AccessControl For Rasters: null
Child Resources:
Info
Histograms
Key Properties
Legend
Raster Function Infos
Supported Operations:
Export Image
Identify
Measure
Compute Histograms
Compute Statistics Histograms
Get Samples
Compute Class Statistics
Query Boundary
Compute Pixel Location
Compute Angles
Validate
Project