View In:
ArcGIS JavaScript
ArcGIS Online Map Viewer
ArcGIS Earth
ArcMap
View Footprint In:
ArcGIS Online Map Viewer
Service Description: Orthos/Ortho2013_epsg3857
Name: Orthos/Ortho2013_epsg3857
Description:
Single Fused Map Cache: false
Extent:
XMin: -8075431.543032768
YMin: 5165019.700434953
XMax: -8064819.343032768
YMax: 5175671.200434953
Spatial Reference: 102100
(3857)
Initial Extent:
XMin: -8075431.543032768
YMin: 5165019.700434953
XMax: -8064819.343032768
YMax: 5175671.200434953
Spatial Reference: 102100
(3857)
Full Extent:
XMin: -8075431.543032768
YMin: 5165019.700434953
XMax: -8064819.343032768
YMax: 5175671.200434953
Spatial Reference: 102100
(3857)
Pixel Size X: 0.30000000000000526
Pixel Size Y: 0.3
Band Count: 4
Pixel Type: U8
RasterFunction Infos: {"rasterFunctionInfos": [{
"name": "None",
"description": "",
"help": ""
}]}
Mensuration Capabilities: Basic
Has Histograms: true
Has Colormap: false
Has Multi Dimensions : false
Rendering Rule:
Min Scale: 0
Max Scale: 0
Copyright Text:
Service Data Type: esriImageServiceDataTypeGeneric
Min Values: 0, 1, 10, 0
Max Values: 255, 255, 254, 254
Mean Values: 94.7126598180275, 96.43458881999983, 89.09206155847592, 114.73999482926169
Standard Deviation Values: 39.50977589442909, 33.9312540872397, 29.07749787204022, 43.078170049892066
Object ID Field:
Fields:
None
Default Mosaic Method: Center
Allowed Mosaic Methods:
SortField:
SortValue: null
Mosaic Operator: First
Default Compression Quality: 75
Default Resampling Method: Bilinear
Max Record Count: null
Max Image Height: 4100
Max Image Width: 15000
Max Download Image Count: null
Max Mosaic Image Count: null
Allow Raster Function: true
Allow Copy: null
Allow Analysis: null
Allow Compute TiePoints: false
Supports Statistics: false
Supports Advanced Queries: false
Use StandardizedQueries: true
Raster Type Infos:
Name: Raster Dataset
Description: Supports all ArcGIS Raster Datasets
Help:
Has Raster Attribute Table: false
Edit Fields Info: null
Ownership Based AccessControl For Rasters: null
Child Resources:
Info
Histograms
Key Properties
Legend
Raster Function Infos
Supported Operations:
Export Image
Identify
Measure
Compute Histograms
Compute Statistics Histograms
Get Samples
Compute Class Statistics
Query Boundary
Compute Pixel Location
Compute Angles
Validate
Project