View In:
ArcGIS JavaScript
ArcGIS Online Map Viewer
ArcGIS Earth
ArcMap
View Footprint In:
ArcGIS Online Map Viewer
Service Description: Orthos/Ortho2023_epsg3857
Name: Orthos/Ortho2023_epsg3857
Description:
Single Fused Map Cache: false
Extent:
XMin: -8077323.725892551
YMin: 5165077.394868612
XMax: -8062853.525892551
YMax: 5177636.5948686125
Spatial Reference: 102100
(3857)
Initial Extent:
XMin: -8077323.725892551
YMin: 5165077.394868612
XMax: -8062853.525892551
YMax: 5177636.5948686125
Spatial Reference: 102100
(3857)
Full Extent:
XMin: -8077323.725892551
YMin: 5165077.394868612
XMax: -8062853.525892551
YMax: 5177636.5948686125
Spatial Reference: 102100
(3857)
Pixel Size X: 0.15000000000000194
Pixel Size Y: 0.15000000000000221
Band Count: 4
Pixel Type: F32
RasterFunction Infos: {"rasterFunctionInfos": [{
"name": "None",
"description": "",
"help": ""
}]}
Mensuration Capabilities: Basic
Has Histograms: true
Has Colormap: false
Has Multi Dimensions : false
Rendering Rule:
Min Scale: 0
Max Scale: 0
Copyright Text:
Service Data Type: esriImageServiceDataTypeGeneric
Min Values: -16.4296875, -15.10894775390625, -15.889216423034668, -19.138843536376953
Max Values: 292.30743408203125, 294.4536437988281, 296.7692565917969, 295.4129943847656
Mean Values: 92.42755801706022, 89.48272421879575, 77.70104209210183, 127.8475592622055
Standard Deviation Values: 37.66440642326318, 34.22746232072836, 30.62900412788645, 37.85300208369759
Object ID Field:
Fields:
None
Default Mosaic Method: Center
Allowed Mosaic Methods:
SortField:
SortValue: null
Mosaic Operator: First
Default Compression Quality: 75
Default Resampling Method: Bilinear
Max Record Count: null
Max Image Height: 4100
Max Image Width: 15000
Max Download Image Count: null
Max Mosaic Image Count: null
Allow Raster Function: true
Allow Copy: null
Allow Analysis: null
Allow Compute TiePoints: false
Supports Statistics: false
Supports Advanced Queries: false
Use StandardizedQueries: true
Raster Type Infos:
Name: Raster Dataset
Description: Supports all ArcGIS Raster Datasets
Help:
Has Raster Attribute Table: false
Edit Fields Info: null
Ownership Based AccessControl For Rasters: null
Child Resources:
Info
Histograms
Key Properties
Legend
Raster Function Infos
Supported Operations:
Export Image
Identify
Measure
Compute Histograms
Compute Statistics Histograms
Get Samples
Compute Class Statistics
Query Boundary
Compute Pixel Location
Compute Angles
Validate
Project